BEGIN:VCALENDAR
VERSION:2.0
PRODID:-//ICEC - Igreja de Cristo Evangélica Carismática - ECPv6.15.20//NONSGML v1.0//EN
CALSCALE:GREGORIAN
METHOD:PUBLISH
X-ORIGINAL-URL:https://icec.pt
X-WR-CALDESC:Eventos para ICEC - Igreja de Cristo Evangélica Carismática
REFRESH-INTERVAL;VALUE=DURATION:PT1H
X-Robots-Tag:noindex
X-PUBLISHED-TTL:PT1H
BEGIN:VTIMEZONE
TZID:UTC
BEGIN:STANDARD
TZOFFSETFROM:+0000
TZOFFSETTO:+0000
TZNAME:UTC
DTSTART:20230101T000000
END:STANDARD
END:VTIMEZONE
BEGIN:VEVENT
DTSTART;TZID=UTC:20240101T080000
DTEND;TZID=UTC:20240101T170000
DTSTAMP:20260421T163539
CREATED:20240406T172342Z
LAST-MODIFIED:20240408T094251Z
UID:2926-1704096000-1704128400@icec.pt
SUMMARY:Cultos da Madrugada
DESCRIPTION:Quisemos iniciar este ano de uma forma diferente\, e depois decidimos continuar :-). Cultos da madrugada\, de segunda a sábado. \nVenha cultuar connosco e comece o dia a adorar a Deus! \nDeixamos aqui os horários e programação dos cultos para que possa juntar-se a nós. Será muito bem vindo. \nHorário:  \nSegunda a Sábado: \n06:00 – 07:15: Culto da Madrugada \n07:15 – 08:00: Oração e pedidos de oração \n08:00 – 12:00: Oração \nProgramação: \n06:00: \nAbertura e louvor \nOração e oferta \nMensagem: Pastor ou líder convidado (20 minutos) \n07:15: \nOração (Pedimos a todos que puderem\, para ficar pelo menos 30 minutos em oração)
URL:https://icec.pt/event/cultos-da-madrugada-2/
LOCATION:Porto
ATTACH;FMTTYPE=image/png:https://icec.pt/wp-content/uploads/2024/04/CULTOS-DA-MADRUGADA-3.png
END:VEVENT
BEGIN:VEVENT
DTSTART;TZID=UTC:20240102T060000
DTEND;TZID=UTC:20240122T120000
DTSTAMP:20260421T163539
CREATED:20231223T104853Z
LAST-MODIFIED:20231223T104853Z
UID:2640-1704175200-1705924800@icec.pt
SUMMARY:Cultos da Madrugada
DESCRIPTION:Queremos iniciar este ano de uma forma diferente. \nDe 2 de Janeiro a 22 de Janeiro de 2024\, iremos ter na igreja de V.N. de Gaia os nossos Cultos da Madrugada. \nEste período de 21 dias de oração será acompanhado de jejum parcial (Os 21 dias de Daniel)\, para todos os que sentirem no seu coração que nos devem acompanhar. \nDeixamos aqui os horários e programação dos cultos. Contamos com a presença de todos\, pois temos certeza de que serão cultos abençoados. \nHorário:  \nSegunda a Sábado: \n06:00 – 07:15: Culto da Madrugada \n07:15 – 08:00: Oração e pedidos de oração \n08:00 – 12:00: Oração \nProgramação: \n06:00: \nAbertura e louvor \nOração e oferta \nMensagem: Pastor ou líder convidado (20 minutos) \n07:15: \nOração (Pedimos a todos que puderem\, para ficar pelo menos 30 minutos em oração)
URL:https://icec.pt/event/cultos-da-madrugada/
LOCATION:ICEC GAIA\, Rua de Jau\, 25\, Vila Nova de Gaia\, Porto\, 4430-076\, Portugal
ATTACH;FMTTYPE=image/jpeg:https://icec.pt/wp-content/uploads/2023/12/ORACAO.jpg
ORGANIZER;CN="Eventos Icec":MAILTO:eventos@icec.pt
END:VEVENT
BEGIN:VEVENT
DTSTART;TZID=UTC:20240107T180000
DTEND;TZID=UTC:20240107T200000
DTSTAMP:20260421T163539
CREATED:20231223T141607Z
LAST-MODIFIED:20231223T141607Z
UID:2653-1704650400-1704657600@icec.pt
SUMMARY:Santa Ceia Janeiro 2024
DESCRIPTION:Venha participar da Santa Ceia. \nA Santa Ceia centra nossa atenção na mensagem principal do Evangelho: a morte e ressurreição de Jesus. Com tudo que acontece em nossas vidas é muito fácil nos esquecermos do sacrifício de Jesus na cruz. A Santa Ceia nos ajuda a centrar novamente em Jesus.
URL:https://icec.pt/event/santa-ceia-janeiro-2024/
LOCATION:Porto
ATTACH;FMTTYPE=image/webp:https://icec.pt/wp-content/uploads/2023/12/file.jpg.webp
ORGANIZER;CN="Eventos Icec":MAILTO:eventos@icec.pt
END:VEVENT
BEGIN:VEVENT
DTSTART;TZID=UTC:20240204T180000
DTEND;TZID=UTC:20240204T200000
DTSTAMP:20260421T163539
CREATED:20231229T154741Z
LAST-MODIFIED:20231229T154741Z
UID:2824-1707069600-1707076800@icec.pt
SUMMARY:Santa Ceia Fevereiro 2024
DESCRIPTION:Venha participar da Santa Ceia. \nA Santa Ceia centra nossa atenção na mensagem principal do Evangelho: a morte e ressurreição de Jesus. Com tudo que acontece em nossas vidas é muito fácil nos esquecermos do sacrifício de Jesus na cruz. A Santa Ceia nos ajuda a centrar novamente em Jesus.
URL:https://icec.pt/event/santa-ceia-fevereiro-2024/
LOCATION:ICEC GAIA\, Rua de Jau\, 25\, Vila Nova de Gaia\, Porto\, 4430-076\, Portugal
ATTACH;FMTTYPE=image/webp:https://icec.pt/wp-content/uploads/2023/12/file.jpg.webp
ORGANIZER;CN="Eventos Icec":MAILTO:eventos@icec.pt
END:VEVENT
BEGIN:VEVENT
DTSTART;TZID=UTC:20240303T180000
DTEND;TZID=UTC:20240303T200000
DTSTAMP:20260421T163539
CREATED:20240206T144738Z
LAST-MODIFIED:20240206T144738Z
UID:2869-1709488800-1709496000@icec.pt
SUMMARY:Santa Ceia Março 2024
DESCRIPTION:Venha participar da Santa Ceia. \nA Santa Ceia centra nossa atenção na mensagem principal do Evangelho: a morte e ressurreição de Jesus. Com tudo que acontece em nossas vidas é muito fácil nos esquecermos do sacrifício de Jesus na cruz. A Santa Ceia nos ajuda a centrar novamente em Jesus.
URL:https://icec.pt/event/santa-ceia-marco-2024/
LOCATION:Porto
ATTACH;FMTTYPE=image/webp:https://icec.pt/wp-content/uploads/2023/12/file.jpg.webp
END:VEVENT
BEGIN:VEVENT
DTSTART;TZID=UTC:20240406T210000
DTEND;TZID=UTC:20240406T230000
DTSTAMP:20260421T163539
CREATED:20240406T151137Z
LAST-MODIFIED:20240406T151137Z
UID:2917-1712437200-1712444400@icec.pt
SUMMARY:BÁTISMOS ABRIL 2024
DESCRIPTION:Se ainda não está batizado(a)\, inscreva-se já para neste sábado o fazer.\nCelebraremos juntos a sua nova vida.\n\n\n“Portanto\, se alguém está em Cristo\, é nova criação. As coisas antigas já passaram; eis que surgiram coisas novas.” (2 Coríntios 5:17)
URL:https://icec.pt/event/batismos-abril-2024/
LOCATION:ICEC ESPINHO\, Rua 62\, n.º 128\, Espinho\, Portugal
ATTACH;FMTTYPE=image/jpeg:https://icec.pt/wp-content/uploads/2024/04/433934075_815792233915762_5378238392090949272_n.jpg
END:VEVENT
BEGIN:VEVENT
DTSTART;TZID=UTC:20240407T180000
DTEND;TZID=UTC:20240407T200000
DTSTAMP:20260421T163539
CREATED:20240206T144823Z
LAST-MODIFIED:20240206T144823Z
UID:2871-1712512800-1712520000@icec.pt
SUMMARY:Santa Ceia Abril 2024
DESCRIPTION:Venha participar da Santa Ceia. \nA Santa Ceia centra nossa atenção na mensagem principal do Evangelho: a morte e ressurreição de Jesus. Com tudo que acontece em nossas vidas é muito fácil nos esquecermos do sacrifício de Jesus na cruz. A Santa Ceia nos ajuda a centrar novamente em Jesus.
URL:https://icec.pt/event/santa-ceia-abril-2024/
LOCATION:Porto
ATTACH;FMTTYPE=image/webp:https://icec.pt/wp-content/uploads/2023/12/file.jpg.webp
END:VEVENT
BEGIN:VEVENT
DTSTART;TZID=UTC:20240426T210000
DTEND;TZID=UTC:20240426T233000
DTSTAMP:20260421T163539
CREATED:20240406T143329Z
LAST-MODIFIED:20240415T172051Z
UID:2898-1714165200-1714174200@icec.pt
SUMMARY:Celebração da Esperança com Will Graham
DESCRIPTION:A Celebração da Esperança com Will Graham chega à Super Bock Arena\, na cidade do Porto\, sexta-feira\, 26 de abril de 2024. Ela contará com uma mensagem de esperança do evangelista Will Graham e um concerto gratuito dos principais artistas cristãos. \nIgrejas da cidade do Porto e de toda a região Norte estão a trabalhar em conjunto a fim de acolher esta ação especial para a comunidade. \nA entrada é grátis\, contudo\, necessita de ter um bilhete (grátis) para poder entrar no recinto. \nSe quiser juntar-se ao grupo ICEC\, peça o seu bilhete no formulário em baixo. \nNOTA IMPORTANTE: Devido ao grande numero de solicitações que tivemos\, os cerca de 200 bilhetes que tínhamos disponíveis já foram atribuídos. Se conseguirmos obter mais bilhetes (não sabemos se já estão esgotados)\, voltaremos a abrir as inscrições neste canal. \nMuito obrigado pelo seu interesse e participação!
URL:https://icec.pt/event/celebracao-da-esperanca-com-will-graham/
LOCATION:Porto
ATTACH;FMTTYPE=image/jpeg:https://icec.pt/wp-content/uploads/2024/04/fd2caac982e73c4bbf5d854c16bc08f3-large.jpg
ORGANIZER;CN="Eventos Icec":MAILTO:eventos@icec.pt
END:VEVENT
BEGIN:VEVENT
DTSTART;TZID=UTC:20240505T180000
DTEND;TZID=UTC:20240505T200000
DTSTAMP:20260421T163539
CREATED:20240206T144903Z
LAST-MODIFIED:20240206T144903Z
UID:2873-1714932000-1714939200@icec.pt
SUMMARY:Santa Ceia Maio 2024
DESCRIPTION:Venha participar da Santa Ceia. \nA Santa Ceia centra nossa atenção na mensagem principal do Evangelho: a morte e ressurreição de Jesus. Com tudo que acontece em nossas vidas é muito fácil nos esquecermos do sacrifício de Jesus na cruz. A Santa Ceia nos ajuda a centrar novamente em Jesus.
URL:https://icec.pt/event/santa-ceia-maio-2024/
LOCATION:Porto
ATTACH;FMTTYPE=image/webp:https://icec.pt/wp-content/uploads/2023/12/file.jpg.webp
END:VEVENT
BEGIN:VEVENT
DTSTART;TZID=UTC:20240602T180000
DTEND;TZID=UTC:20240602T200000
DTSTAMP:20260421T163539
CREATED:20240206T144937Z
LAST-MODIFIED:20240206T144937Z
UID:2875-1717351200-1717358400@icec.pt
SUMMARY:Santa Ceia Junho 2024
DESCRIPTION:Venha participar da Santa Ceia. \nA Santa Ceia centra nossa atenção na mensagem principal do Evangelho: a morte e ressurreição de Jesus. Com tudo que acontece em nossas vidas é muito fácil nos esquecermos do sacrifício de Jesus na cruz. A Santa Ceia nos ajuda a centrar novamente em Jesus.
URL:https://icec.pt/event/santa-ceia-junho-2024/
LOCATION:Porto
ATTACH;FMTTYPE=image/webp:https://icec.pt/wp-content/uploads/2023/12/file.jpg.webp
END:VEVENT
BEGIN:VEVENT
DTSTART;TZID=UTC:20240706T160000
DTEND;TZID=UTC:20240706T180000
DTSTAMP:20260421T163539
CREATED:20240629T100605Z
LAST-MODIFIED:20240629T100605Z
UID:2986-1720281600-1720288800@icec.pt
SUMMARY:REUNIÃO DE MULHERES
DESCRIPTION:SÁBADO 6 JULHO 16:00 HORAS
URL:https://icec.pt/event/reuniao-de-mulheres-2/
LOCATION:ICEC GAIA\, Rua de Jau\, 25\, Vila Nova de Gaia\, Porto\, 4430-076\, Portugal
ATTACH;FMTTYPE=image/jpeg:https://icec.pt/wp-content/uploads/2024/06/WhatsApp-Image-2024-06-25-at-14.35.10.jpeg
END:VEVENT
BEGIN:VEVENT
DTSTART;TZID=UTC:20240707T180000
DTEND;TZID=UTC:20240707T200000
DTSTAMP:20260421T163539
CREATED:20240629T105957Z
LAST-MODIFIED:20240629T105957Z
UID:2988-1720375200-1720382400@icec.pt
SUMMARY:Santa Ceia Julho 2024
DESCRIPTION:
URL:https://icec.pt/event/santa-ceia-julho-2024/
LOCATION:Porto
ATTACH;FMTTYPE=image/webp:https://icec.pt/wp-content/uploads/2023/12/file.jpg.webp
END:VEVENT
BEGIN:VEVENT
DTSTART;TZID=UTC:20240707T180000
DTEND;TZID=UTC:20240707T210000
DTSTAMP:20260421T163539
CREATED:20240629T100436Z
LAST-MODIFIED:20240629T100436Z
UID:2984-1720375200-1720386000@icec.pt
SUMMARY:PR. JOHN TORRENS
DESCRIPTION:DURBAN CHRISTIAN CENTRE – AFRICA DO SUL
URL:https://icec.pt/event/pr-john-torrens/
LOCATION:ICEC GAIA\, Rua de Jau\, 25\, Vila Nova de Gaia\, Porto\, 4430-076\, Portugal
ATTACH;FMTTYPE=image/jpeg:https://icec.pt/wp-content/uploads/2024/06/WhatsApp-Image-2024-06-28-at-21.01.46.jpeg
END:VEVENT
BEGIN:VEVENT
DTSTART;TZID=UTC:20240728T180000
DTEND;TZID=UTC:20240728T210000
DTSTAMP:20260421T163539
CREATED:20240629T094040Z
LAST-MODIFIED:20240629T094145Z
UID:2982-1722189600-1722200400@icec.pt
SUMMARY:Culto especial Dr. Melody Lavin
DESCRIPTION:VLMI – VICTORIOUS LIVING MINISTRIES INTERNACIONAL
URL:https://icec.pt/event/culto-especial-dr-melody-lavin/
LOCATION:ICEC GAIA\, Rua de Jau\, 25\, Vila Nova de Gaia\, Porto\, 4430-076\, Portugal
ATTACH;FMTTYPE=image/jpeg:https://icec.pt/wp-content/uploads/2024/06/WhatsApp-Image-2024-06-28-at-23.19.44.jpeg
END:VEVENT
BEGIN:VEVENT
DTSTART;TZID=UTC:20241228T200000
DTEND;TZID=UTC:20241228T220000
DTSTAMP:20260421T163539
CREATED:20241030T093328Z
LAST-MODIFIED:20241126T135708Z
UID:3004-1735416000-1735423200@icec.pt
SUMMARY:BATISMOS DEZEMBRO 2024
DESCRIPTION:Se ainda não está batizado(a)\, inscreva-se já para neste o fazer.\nCelebraremos juntos a sua nova vida.\n\n\n“Portanto\, se alguém está em Cristo\, é nova criação. As coisas antigas já passaram; eis que surgiram coisas novas.” (2 Coríntios 5:17)
URL:https://icec.pt/event/batismos-novembro-2024/
LOCATION:ICEC ESPINHO\, Rua 62\, n.º 128\, Espinho\, Portugal
ATTACH;FMTTYPE=image/webp:https://icec.pt/wp-content/uploads/2024/11/BATISMOS-DEZEMBRO-24.webp
ORGANIZER;CN="Eventos Icec":MAILTO:eventos@icec.pt
END:VEVENT
BEGIN:VEVENT
DTSTART;TZID=UTC:20250214T080000
DTEND;TZID=UTC:20250217T170000
DTSTAMP:20260421T163539
CREATED:20250209T182654Z
LAST-MODIFIED:20250209T183006Z
UID:3014-1739520000-1739811600@icec.pt
SUMMARY:AVIVAMENTO
DESCRIPTION:Junte-se a nós. Reserve estas datas na sua agenda e não falte.
URL:https://icec.pt/event/avivamento/
LOCATION:Porto
ATTACH;FMTTYPE=image/jpeg:https://icec.pt/wp-content/uploads/2025/02/476181773_18037579019455198_4899457154646446287_n.jpg
ORGANIZER;CN="Eventos Icec":MAILTO:eventos@icec.pt
END:VEVENT
BEGIN:VEVENT
DTSTART;TZID=UTC:20250329T210000
DTEND;TZID=UTC:20250329T210000
DTSTAMP:20260421T163539
CREATED:20250317T210635Z
LAST-MODIFIED:20250317T210951Z
UID:3031-1743282000-1743282000@icec.pt
SUMMARY:Reunião de Jovens março 2025
DESCRIPTION:Esta é a nossa noite!  \nVem connosco nesta oportunidade de comunhão\, diversão\, partilha e socialização. \nEstamos à tua espera e\, contamos contigo ;-) \nJunta-te a nós!
URL:https://icec.pt/event/reuniao-de-jovens-marco-2025/
LOCATION:ICEC GAIA\, Rua de Jau\, 25\, Vila Nova de Gaia\, Porto\, 4430-076\, Portugal
ATTACH;FMTTYPE=image/jpeg:https://icec.pt/wp-content/uploads/2025/03/484312191_18041993492455198_1588660974261101350_n.jpg
END:VEVENT
BEGIN:VEVENT
DTSTART;TZID=UTC:20250503T080000
DTEND;TZID=UTC:20250504T180000
DTSTAMP:20260421T163539
CREATED:20250425T180923Z
LAST-MODIFIED:20250427T190130Z
UID:3039-1746259200-1746381600@icec.pt
SUMMARY:Culto Mulheres com Dr.ª Melody Lavin
DESCRIPTION:Contamos consigo em V.N. Gaia e em Espinho\, nos dias 3 e 4 de maio. \nNão falte!
URL:https://icec.pt/event/culto-mulheres-com-dr-a-melody-lavin/
LOCATION:Porto
ATTACH;FMTTYPE=image/jpeg:https://icec.pt/wp-content/uploads/2025/04/Mulheres-ICEC.jpeg
END:VEVENT
BEGIN:VEVENT
DTSTART;TZID=UTC:20250518T210000
DTEND;TZID=UTC:20250518T230000
DTSTAMP:20260421T163539
CREATED:20250518T220945Z
LAST-MODIFIED:20250812T220959Z
UID:3221-1747602000-1747609200@icec.pt
SUMMARY:Cerimónia de Entrega de Diplomas da Escola Bíblica – ICEC em Parceria com a VLMI
DESCRIPTION:No espírito do discipulado e do ensino da Palavra de Deus\, a ICEC realizou\, em conjunto com a VLMI (Worldwide Living Ministries International)\, a cerimónia de entrega de diplomas da Escola Bíblica. \nVeja o artigo completo aqui: https://icec.pt/cerimonia-de-entrega-de-diplomas-da-escola-biblica-icec-em-parceria-com-a-vlmi/
URL:https://icec.pt/event/cerimonia-de-entrega-de-diplomas-da-escola-biblica-icec-em-parceria-com-a-vlmi/
LOCATION:ICEC GAIA\, Rua de Jau\, 25\, Vila Nova de Gaia\, Porto\, 4430-076\, Portugal
ATTACH;FMTTYPE=image/jpeg:https://icec.pt/wp-content/uploads/2025/08/IMG_8938-scaled.jpg
END:VEVENT
BEGIN:VEVENT
DTSTART;TZID=UTC:20250620T210000
DTEND;TZID=UTC:20250622T210000
DTSTAMP:20260421T163539
CREATED:20250615T221139Z
LAST-MODIFIED:20250615T221224Z
UID:3046-1750453200-1750626000@icec.pt
SUMMARY:Apóstolo James Arekion
DESCRIPTION:Não perca esta oportunidade.\nEstámos à sua espera para este momento de partilha.
URL:https://icec.pt/event/apostolo-james-arekion/
LOCATION:ICEC GAIA\, Rua de Jau\, 25\, Vila Nova de Gaia\, Porto\, 4430-076\, Portugal
ATTACH;FMTTYPE=image/jpeg:https://icec.pt/wp-content/uploads/2025/06/WhatsApp-Image-2025-06-15-at-22.44.50.jpeg
END:VEVENT
BEGIN:VEVENT
DTSTART;TZID=UTC:20250712T210000
DTEND;TZID=UTC:20250712T230000
DTSTAMP:20260421T163539
CREATED:20250624T185242Z
LAST-MODIFIED:20250714T225129Z
UID:3051-1752354000-1752361200@icec.pt
SUMMARY:Batismo nas águas
DESCRIPTION:BATISMOS \nÉ já no próximo dia 12 de julho que teremos os próximos batismos.\nSe ainda não é batizado\, inscreva-se nos cultos. \nPodes ver aqui (https://icec.pt/batismos-07-25/) um pequeno artigo sobre o evento. \n 
URL:https://icec.pt/event/batismo-nas-aguas/
LOCATION:ICEC ESPINHO\, Rua 62\, n.º 128\, Espinho\, Portugal
ATTACH;FMTTYPE=image/jpeg:https://icec.pt/wp-content/uploads/2025/06/WhatsApp-Image-2025-06-24-at-17.26.28.jpeg
END:VEVENT
BEGIN:VEVENT
DTSTART;TZID=UTC:20250806T200000
DTEND;TZID=UTC:20250806T235900
DTSTAMP:20260421T163539
CREATED:20250809T213331Z
LAST-MODIFIED:20250810T171309Z
UID:3156-1754510400-1754524740@icec.pt
SUMMARY:Jantar de convivio ICEC
DESCRIPTION:Jantar de empresários e convívio com os irmãos e amigos da ICEC. \nQuinta da Boucinha \nVeja mais aqui: https://icec.pt/jantar-de-negocios-e-convivio-icec-uma-noite-de-comunhao-e-crescimento/
URL:https://icec.pt/event/jantar-de-convivio-icec/
LOCATION:Porto
ATTACH;FMTTYPE=image/jpeg:https://icec.pt/wp-content/uploads/2025/08/IMG_2153-scaled.jpg
END:VEVENT
BEGIN:VEVENT
DTSTART;TZID=UTC:20250814T210000
DTEND;TZID=UTC:20250817T200000
DTSTAMP:20260421T163539
CREATED:20250814T113202Z
LAST-MODIFIED:20250819T145229Z
UID:3313-1755205200-1755460800@icec.pt
SUMMARY:Ide e Fazei Discípulos: A Grande Comissão
DESCRIPTION:A Igreja de Cristo Evangélica  Carismática  (ICEC) acredita que a missão de cada crente não termina no momento em que conhece Jesus. O chamado de Cristo é claro: “Ide por todo o mundo\, pregai o evangelho a toda criatura” (Marcos 16:15) e “Fazei discípulos de todas as nações” (Mateus 28:19). \n\nQuinta feira\, dia 14-08-2025 às 21 horas\, culto ministrado pelo pastor Hildeberto na igreja de Espinho (Veja mais aqui: ide-e-fazei-discipulos-a-grande-comissao\n\n  \n\nSexta feira\, dia 15-08-2025\, às 21 horas\, culto ministrado pelo pastor Samuel na igreja de Gaia (Veja mais aqui: https://icec.pt/ide-e-fazei-discipulos-pastor-samuel-rodrigues\n\n  \n\nDomingo\, dia 17-08-2025\, às 18:00 horas\, culto ministrado pelo pastor Hildeberto na igreja de Gaia (Veja mais aqui: https://icec.pt/ide-e-fazei-discipulos-pastor-hildeberto-junior)\n\n  \nNão queremos apenas encher cadeiras\, mas sim formar vidas transformadas. O discipulado é o coração da Igreja\, e acreditamos que cada cristão pode ser um instrumento poderoso nas mãos de Deus para gerar outros discípulos. \nJunte-se a nós! Seja parte ativa desta missão. Vamos juntos levar luz onde há trevas\, esperança onde há desânimo\, e vida onde há morte espiritual. \nEvangelizar é amar. Discipular é cuidar. Vamos fazer ambos!
URL:https://icec.pt/event/ide-e-fazei-discipulos-a-grande-comissao-campanha-evangelizar-e-fazer-discipulos-icec/
LOCATION:ICEC GAIA\, Rua de Jau\, 25\, Vila Nova de Gaia\, Porto\, 4430-076\, Portugal
ATTACH;FMTTYPE=image/jpeg:https://icec.pt/wp-content/uploads/2025/08/WhatsApp-Image-2025-08-14-at-10.26.40.jpeg
END:VEVENT
BEGIN:VEVENT
DTSTART;TZID=UTC:20250826T080000
DTEND;TZID=UTC:20260401T170000
DTSTAMP:20260421T163539
CREATED:20250826T144133Z
LAST-MODIFIED:20250826T165847Z
UID:3522-1756195200-1775062800@icec.pt
SUMMARY:“Um Sorriso por Moçambique”
DESCRIPTION:🪥 Campanha Solidária ICEC em conjunto com a FATIN – “Um Sorriso por Moçambique” \nA ICEC\, em parceria com a FATIN\, lança uma campanha solidária com o objetivo de levar esperança e cuidado às comunidades em Moçambique. \n👉 Até 01 de abril de 2026\, estamos a recolher escovas de dentes novas e pasta dentífrica\, que serão entregues em maio de 2026 diretamente às famílias e crianças moçambicanas. \n📍 Os pontos de entrega são as nossas igrejas em Espinho e Vila Nova de Gaia. \nA sua doação\, por mais simples que pareça\, pode transformar vidas e devolver sorrisos. 💙 \nJunte-se a nós nesta missão!Porque cada gesto conta\, e juntos podemos fazer a diferença.
URL:https://icec.pt/event/%f0%9f%aa%a5-campanha-solidaria-icec-em-conjunto-com-a-fatin-um-sorriso-por-mocambique/
LOCATION:Porto
ATTACH;FMTTYPE=image/png:https://icec.pt/wp-content/uploads/2025/08/Copia-de-20h30.zip-1-1.png
END:VEVENT
BEGIN:VEVENT
DTSTART;VALUE=DATE:20250913
DTEND;VALUE=DATE:20250914
DTSTAMP:20260421T163539
CREATED:20250826T140849Z
LAST-MODIFIED:20250915T104431Z
UID:3515-1757721600-1757807999@icec.pt
SUMMARY:✨🍇 Piquenique ICEC 🍇✨
DESCRIPTION:✨🍇 Piquenique ICEC – Parque de Argoncilhe 🍇✨ \nNo próximo dia 13 de setembro\, a ICEC convida todos os irmãos e amigos para um tempo especial de comunhão no Parque de Argoncilhe. Será uma tarde de partilha\, alegria e unidade\, onde poderemos desfrutar da criação de Deus\, fortalecer os laços fraternos e celebrar a bênção que é estarmos juntos como família em Cristo. \nTraga a sua merenda\, boa disposição e o coração aberto para momentos de convívio e edificação. 🙌Que este piquenique seja uma oportunidade de renovarmos a amizade\, vivermos o amor fraternal e proclamarmos que somos um só corpo em Cristo. \n📅 Data: 13 de setembro📍 Local: Parque de Argoncilhe (Rua das Forças Armadas\, Nº80\, 4505-128) \nVenha participar e seja parte desta bênção! 🌿✨ \nVeja um resumo do evento aqui: Piquenique ICEC 2025
URL:https://icec.pt/event/%e2%9c%a8%f0%9f%8d%87-piquenique-icec-parque-de-argoncilhe-%f0%9f%8d%87%e2%9c%a8/
LOCATION:Porto
ATTACH;FMTTYPE=image/jpeg:https://icec.pt/wp-content/uploads/2025/08/0f8c6195-92c7-49b1-8a9c-449f95a6790d.jpg
END:VEVENT
BEGIN:VEVENT
DTSTART;TZID=UTC:20251114T140000
DTEND;TZID=UTC:20251122T210000
DTSTAMP:20260421T163539
CREATED:20251119T174144Z
LAST-MODIFIED:20251202T001725Z
UID:3745-1763128800-1763845200@icec.pt
SUMMARY:MUCES Auditório Edifício Porto Inova
DESCRIPTION:A Semana de Evangelização do MUCES AVIVA PORTO 2025 foi um tempo marcante e profundamente abençoado. Ao longo de vários dias\, vivemos momentos intensos de comunhão\, ministração e renovação espiritual\, reunindo crentes de diferentes cidades numa só voz e num só propósito: exaltar o nome de Jesus e levar a Sua mensagem a todos os que dela necessitam. \nVeja um resumo do evento aqui: https://icec.pt/muces-aviva-porto-2025/ \n 
URL:https://icec.pt/event/muces-aviva-porto-22-11-2025-auditorio-edificio-porto-inova/
LOCATION:Edifício Porto Inova\, Rua Eng. Ferreira Dias\, Nº 728\, Porto\, Porto\, 4100-246\, Portugal
ATTACH;FMTTYPE=image/jpeg:https://icec.pt/wp-content/uploads/2025/11/WhatsApp-Image-2025-11-16-at-10.32.30.jpeg
END:VEVENT
BEGIN:VEVENT
DTSTART;TZID=UTC:20251221T180000
DTEND;TZID=UTC:20251221T200000
DTSTAMP:20260421T163539
CREATED:20251218T145808Z
LAST-MODIFIED:20260119T141426Z
UID:4434-1766340000-1766347200@icec.pt
SUMMARY:Festa de Natal ICEC 2025
DESCRIPTION:A ICEC – Igreja de Cristo Evangélica Carismática\, tem o prazer de convidar a todos para a Festa de Natal\, que se realizará no próximo dia 21 de dezembro de 2025 na igreja de Gaia. \nSerá um momento especial de celebração\, convívio e partilha\, onde juntos iremos recordar o verdadeiro significado do Natal\, num ambiente de alegria\, comunhão e esperança. \n📍 Local: ICEC de Gaia\n📅 Data: 21 de dezembro de 2025\n⏰ Hora: 18:00 horas \nA sua presença será muito importante para tornar esta celebração ainda mais especial. \nEsperamos por si. \nVeja algumas imagens aqui: https://icec.pt/festa-de-natal-2025/
URL:https://icec.pt/event/festa-de-natal-icec/
LOCATION:ICEC GAIA\, Rua de Jau\, 25\, Vila Nova de Gaia\, Porto\, 4430-076\, Portugal
ATTACH;FMTTYPE=image/jpeg:https://icec.pt/wp-content/uploads/2025/12/WhatsApp-Image-2025-12-18-at-14.38.39.jpeg
ORGANIZER;CN="Eventos Icec":MAILTO:eventos@icec.pt
END:VEVENT
BEGIN:VEVENT
DTSTART;TZID=UTC:20251231T230000
DTEND;TZID=UTC:20260101T010000
DTSTAMP:20260421T163539
CREATED:20251221T184949Z
LAST-MODIFIED:20251222T213759Z
UID:4450-1767222000-1767229200@icec.pt
SUMMARY:Festa de Ano Novo 2025/2026 ICEC
DESCRIPTION:Queridos irmãos e amigos\, \nAo encerrarmos 2025\, queremos agradecer a Deus por todas as bênçãos\, proteções e lições que nos concedeu ao longo deste ano. Com gratidão no coração\, olhamos para 2026 cheios de Fé e confiança na Sua fidelidade. \nDesejamos a cada um de vós um Ano Novo repleto de paz\, saúde\, alegria e crescentes bênçãos do Senhor. Que 2026 seja um tempo de renovação espiritual\, de maior proximidade com Deus e de testemunho vivo do Seu amor. \nConvidamo-vos a vir festejar connosco a entrada do novo ano na Igreja de Cristo Evangélica Carismática (ICEC) de Gaia. Vamos reunir-nos em oração\, louvor e comunhão para agradecer o ano que passou e consagrar ao Senhor o ano que chega. \nA celebração terá lugar no dia 31 de dezembro\, na nossa igreja em Gaia (Rua de Jau\, Nº 25\, Vila Nova de Gaia). As portas estão abertas para todos! \nQue o Senhor vos abençoe ricamente e nos una neste momento especial. \nUm próspero e abençoado Ano Novo de 2026!
URL:https://icec.pt/event/festa-de-ano-novo-2026-icec/
LOCATION:ICEC GAIA\, Rua de Jau\, 25\, Vila Nova de Gaia\, Porto\, 4430-076\, Portugal
ATTACH;FMTTYPE=image/jpeg:https://icec.pt/wp-content/uploads/2025/12/WhatsApp-Image-2025-12-21-at-14.24.26.jpeg
ORGANIZER;CN="Eventos Icec":MAILTO:eventos@icec.pt
END:VEVENT
END:VCALENDAR