BEGIN:VCALENDAR
VERSION:2.0
PRODID:-//ICEC - Igreja de Cristo Evangélica Carismática - ECPv6.15.20//NONSGML v1.0//EN
CALSCALE:GREGORIAN
METHOD:PUBLISH
X-WR-CALNAME:ICEC - Igreja de Cristo Evangélica Carismática
X-ORIGINAL-URL:https://icec.pt
X-WR-CALDESC:Eventos para ICEC - Igreja de Cristo Evangélica Carismática
REFRESH-INTERVAL;VALUE=DURATION:PT1H
X-Robots-Tag:noindex
X-PUBLISHED-TTL:PT1H
BEGIN:VTIMEZONE
TZID:UTC
BEGIN:STANDARD
TZOFFSETFROM:+0000
TZOFFSETTO:+0000
TZNAME:UTC
DTSTART:20240101T000000
END:STANDARD
END:VTIMEZONE
BEGIN:VEVENT
DTSTART;TZID=UTC:20250826T080000
DTEND;TZID=UTC:20260401T170000
DTSTAMP:20260422T115343
CREATED:20250826T144133Z
LAST-MODIFIED:20250826T165847Z
UID:3522-1756195200-1775062800@icec.pt
SUMMARY:“Um Sorriso por Moçambique”
DESCRIPTION:🪥 Campanha Solidária ICEC em conjunto com a FATIN – “Um Sorriso por Moçambique” \nA ICEC\, em parceria com a FATIN\, lança uma campanha solidária com o objetivo de levar esperança e cuidado às comunidades em Moçambique. \n👉 Até 01 de abril de 2026\, estamos a recolher escovas de dentes novas e pasta dentífrica\, que serão entregues em maio de 2026 diretamente às famílias e crianças moçambicanas. \n📍 Os pontos de entrega são as nossas igrejas em Espinho e Vila Nova de Gaia. \nA sua doação\, por mais simples que pareça\, pode transformar vidas e devolver sorrisos. 💙 \nJunte-se a nós nesta missão!Porque cada gesto conta\, e juntos podemos fazer a diferença.
URL:https://icec.pt/event/%f0%9f%aa%a5-campanha-solidaria-icec-em-conjunto-com-a-fatin-um-sorriso-por-mocambique/
ATTACH;FMTTYPE=image/png:https://icec.pt/wp-content/uploads/2025/08/Copia-de-20h30.zip-1-1.png
END:VEVENT
END:VCALENDAR