BEGIN:VCALENDAR
VERSION:2.0
PRODID:-//ICEC - Charismatic Evangelical Church of Christ - ECPv6.15.20//NONSGML v1.0//EN
CALSCALE:GREGORIAN
METHOD:PUBLISH
X-WR-CALNAME:ICEC - Igreja de Cristo Evangélica Carismática
X-ORIGINAL-URL:https://icec.pt
X-WR-CALDESC:Events for ICEC - Charismatic Evangelical Church of Christ
REFRESH-INTERVAL;VALUE=DURATION:PT1H
X-Robots-Tag:noindex
X-PUBLISHED-TTL:PT1H
BEGIN:VTIMEZONE
TZID:UTC
BEGIN:STANDARD
TZOFFSETFROM:+0000
TZOFFSETTO:+0000
TZNAME:UTC
DTSTART:20240101T000000
END:STANDARD
END:VTIMEZONE
BEGIN:VEVENT
DTSTART;TZID=UTC:20250712T210000
DTEND;TZID=UTC:20250712T230000
DTSTAMP:20260423T125407
CREATED:20250624T185242Z
LAST-MODIFIED:20250714T225129Z
UID:3051-1752354000-1752361200@icec.pt
SUMMARY:Batismo nas águas
DESCRIPTION:BATISMOS \nÉ já no próximo dia 12 de julho que teremos os próximos batismos.\nSe ainda não é batizado\, inscreva-se nos cultos. \nPodes ver aqui (https://icec.pt/batismos-07-25/) um pequeno artigo sobre o evento. \n 
URL:https://icec.pt/event/batismo-nas-aguas/
LOCATION:ICEC ESPINHO\, Two 62\, N.º 128\, Espinho\, Portugal
ATTACH;FMTTYPE=image/jpeg:https://icec.pt/wp-content/uploads/2025/06/WhatsApp-Image-2025-06-24-at-17.26.28.jpeg
END:VEVENT
END:VCALENDAR