BEGIN:VCALENDAR
VERSION:2.0
PRODID:-//ICEC - Charismatic Evangelical Church of Christ - ECPv6.15.20//NONSGML v1.0//EN
CALSCALE:GREGORIAN
METHOD:PUBLISH
X-ORIGINAL-URL:https://icec.pt
X-WR-CALDESC:Events for ICEC - Charismatic Evangelical Church of Christ
REFRESH-INTERVAL;VALUE=DURATION:PT1H
X-Robots-Tag:noindex
X-PUBLISHED-TTL:PT1H
BEGIN:VTIMEZONE
TZID:UTC
BEGIN:STANDARD
TZOFFSETFROM:+0000
TZOFFSETTO:+0000
TZNAME:UTC
DTSTART:20240101T000000
END:STANDARD
END:VTIMEZONE
BEGIN:VEVENT
DTSTART;TZID=UTC:20250518T210000
DTEND;TZID=UTC:20250518T230000
DTSTAMP:20260423T025711
CREATED:20250518T220945Z
LAST-MODIFIED:20250812T220959Z
UID:3221-1747602000-1747609200@icec.pt
SUMMARY:Cerimónia de Entrega de Diplomas da Escola Bíblica – ICEC em Parceria com a VLMI
DESCRIPTION:No espírito do discipulado e do ensino da Palavra de Deus\, a ICEC realizou\, em conjunto com a VLMI (Worldwide Living Ministries International)\, a cerimónia de entrega de diplomas da Escola Bíblica. \nVeja o artigo completo aqui: https://icec.pt/cerimonia-de-entrega-de-diplomas-da-escola-biblica-icec-em-parceria-com-a-vlmi/
URL:https://icec.pt/event/cerimonia-de-entrega-de-diplomas-da-escola-biblica-icec-em-parceria-com-a-vlmi/
LOCATION:ICEC GAIA\, Rua de Jau\, 25\, Vila Nova de Gaia\, Porto\, 4430-076\, Portugal
ATTACH;FMTTYPE=image/jpeg:https://icec.pt/wp-content/uploads/2025/08/IMG_8938-scaled.jpg
END:VEVENT
END:VCALENDAR