BEGIN:VCALENDAR
VERSION:2.0
PRODID:-//ICEC - Charismatic Evangelical Church of Christ - ECPv6.15.20//NONSGML v1.0//EN
CALSCALE:GREGORIAN
METHOD:PUBLISH
X-WR-CALNAME:ICEC - Igreja de Cristo Evangélica Carismática
X-ORIGINAL-URL:https://icec.pt
X-WR-CALDESC:Events for ICEC - Charismatic Evangelical Church of Christ
REFRESH-INTERVAL;VALUE=DURATION:PT1H
X-Robots-Tag:noindex
X-PUBLISHED-TTL:PT1H
BEGIN:VTIMEZONE
TZID:UTC
BEGIN:STANDARD
TZOFFSETFROM:+0000
TZOFFSETTO:+0000
TZNAME:UTC
DTSTART:20230101T000000
END:STANDARD
END:VTIMEZONE
BEGIN:VEVENT
DTSTART;TZID=UTC:20241228T200000
DTEND;TZID=UTC:20241228T220000
DTSTAMP:20260422T074639
CREATED:20241030T093328Z
LAST-MODIFIED:20241126T135708Z
UID:3004-1735416000-1735423200@icec.pt
SUMMARY:BATISMOS DEZEMBRO 2024
DESCRIPTION:If it is not yet baptized(a)\, inscreva-se já para neste o fazer.\nCelebraremos juntos a sua nova vida.\n\n\n“Portanto\, se alguém está em Cristo\, é nova criação. As coisas antigas já passaram; eis que surgiram coisas novas.” (2 Corinthians 5:17)
URL:https://icec.pt/event/batismos-novembro-2024/
LOCATION:ICEC ESPINHO\, Two 62\, N.º 128\, Espinho\, Portugal
ATTACH;FMTTYPE=image/webp:https://icec.pt/wp-content/uploads/2024/11/BATISMOS-DEZEMBRO-24.webp
ORGANIZER;CN="Icec events":MAILTO:eventos@icec.pt
END:VEVENT
END:VCALENDAR