BEGIN:VCALENDAR
VERSION:2.0
PRODID:-//ICEC - Charismatic Evangelical Church of Christ - ECPv6.15.20//NONSGML v1.0//EN
CALSCALE:GREGORIAN
METHOD:PUBLISH
X-WR-CALNAME:ICEC - Igreja de Cristo Evangélica Carismática
X-ORIGINAL-URL:https://icec.pt
X-WR-CALDESC:Events for ICEC - Charismatic Evangelical Church of Christ
REFRESH-INTERVAL;VALUE=DURATION:PT1H
X-Robots-Tag:noindex
X-PUBLISHED-TTL:PT1H
BEGIN:VTIMEZONE
TZID:UTC
BEGIN:STANDARD
TZOFFSETFROM:+0000
TZOFFSETTO:+0000
TZNAME:UTC
DTSTART:20230101T000000
END:STANDARD
END:VTIMEZONE
BEGIN:VEVENT
DTSTART;TZID=UTC:20240102T060000
DTEND;TZID=UTC:20240122T120000
DTSTAMP:20260421T174839
CREATED:20231223T104853Z
LAST-MODIFIED:20231223T104853Z
UID:2640-1704175200-1705924800@icec.pt
SUMMARY:Cultos da Madrugada
DESCRIPTION:We want to start this year in a different way. \nDe 2 from January to 22 January 2024\, iremos ter na igreja de V.N. de Gaia os nossos Cultos da Madrugada. \nEste período de 21 dias de oração será acompanhado de jejum parcial (Os 21 dias de Daniel)\, para todos os que sentirem no seu coração que nos devem acompanhar. \nDeixamos aqui os horários e programação dos cultos. Contamos com a presença de todos\, pois temos certeza de que serão cultos abençoados. \nHorário:  \nSegunda a Sábado: \n06:00 – 07:15: Culto da Madrugada \n07:15 – 08:00: Oração e pedidos de oração \n08:00 – 12:00: Oração \nProgramação: \n06:00: \nAbertura e louvor \nOração e oferta \nMensagem: Pastor or guest leader (20 minutes) \n07:15: \nOração (Pedimos a todos que puderem\, to be at least 30 minutes in prayer)
URL:https://icec.pt/event/cultos-da-madrugada/
LOCATION:ICEC GAIA\, Rua de Jau\, 25\, Vila Nova de Gaia\, Porto\, 4430-076\, Portugal
ATTACH;FMTTYPE=image/jpeg:https://icec.pt/wp-content/uploads/2023/12/ORACAO.jpg
ORGANIZER;CN="Icec events":MAILTO:eventos@icec.pt
END:VEVENT
BEGIN:VEVENT
DTSTART;TZID=UTC:20240107T180000
DTEND;TZID=UTC:20240107T200000
DTSTAMP:20260421T174839
CREATED:20231223T141607Z
LAST-MODIFIED:20231223T141607Z
UID:2653-1704650400-1704657600@icec.pt
SUMMARY:Holy Supper January 2024
DESCRIPTION:Come and participate in Holy Supper. \nA Santa Ceia centra nossa atenção na mensagem principal do Evangelho: the death and resurrection of Jesus. With everything that happens in our lives, it is very easy to forget Jesus' sacrifice on the cross.. Holy Communion helps us re-center on Jesus.
URL:https://icec.pt/event/santa-ceia-janeiro-2024/
LOCATION:Porto
ATTACH;FMTTYPE=image/webp:https://icec.pt/wp-content/uploads/2023/12/file.jpg.webp
ORGANIZER;CN="Icec events":MAILTO:eventos@icec.pt
END:VEVENT
END:VCALENDAR