BEGIN:VCALENDAR
VERSION:2.0
PRODID:-//ICEC - Charismatic Evangelical Church of Christ - ECPv6.15.20//NONSGML v1.0//EN
CALSCALE:GREGORIAN
METHOD:PUBLISH
X-WR-CALNAME:ICEC - Igreja de Cristo Evangélica Carismática
X-ORIGINAL-URL:https://icec.pt
X-WR-CALDESC:Events for ICEC - Charismatic Evangelical Church of Christ
REFRESH-INTERVAL;VALUE=DURATION:PT1H
X-Robots-Tag:noindex
X-PUBLISHED-TTL:PT1H
BEGIN:VTIMEZONE
TZID:UTC
BEGIN:STANDARD
TZOFFSETFROM:+0000
TZOFFSETTO:+0000
TZNAME:UTC
DTSTART:20220101T000000
END:STANDARD
END:VTIMEZONE
BEGIN:VEVENT
DTSTART;TZID=UTC:20231125T170000
DTEND;TZID=UTC:20231125T190000
DTSTAMP:20260422T041852
CREATED:20230919T170109Z
LAST-MODIFIED:20231104T173421Z
UID:2101-1700931600-1700938800@icec.pt
SUMMARY:Batismos nas Águas
DESCRIPTION:
URL:https://icec.pt/event/batismos-nas-aguas/
LOCATION:ICEC ESPINHO\, Two 62\, N.º 128\, Espinho\, Portugal
ATTACH;FMTTYPE=image/png:https://icec.pt/wp-content/uploads/2023/09/Batismos-4-Novembro.png
END:VEVENT
END:VCALENDAR