BEGIN:VCALENDAR
VERSION:2.0
PRODID:-//ICEC - Igreja de Cristo Evangélica Carismática - ECPv6.15.20//NONSGML v1.0//EN
CALSCALE:GREGORIAN
METHOD:PUBLISH
X-WR-CALNAME:ICEC - Igreja de Cristo Evangélica Carismática
X-ORIGINAL-URL:https://icec.pt
X-WR-CALDESC:Eventos para ICEC - Igreja de Cristo Evangélica Carismática
REFRESH-INTERVAL;VALUE=DURATION:PT1H
X-Robots-Tag:noindex
X-PUBLISHED-TTL:PT1H
BEGIN:VTIMEZONE
TZID:UTC
BEGIN:STANDARD
TZOFFSETFROM:+0000
TZOFFSETTO:+0000
TZNAME:UTC
DTSTART:20220101T000000
END:STANDARD
END:VTIMEZONE
BEGIN:VEVENT
DTSTART;TZID=UTC:20231001T080000
DTEND;TZID=UTC:20231109T170000
DTSTAMP:20260422T220311
CREATED:20220621T103443Z
LAST-MODIFIED:20230919T213126Z
UID:1609-1696147200-1699549200@icec.pt
SUMMARY:SANTA CEIA
DESCRIPTION:EVENTO DE TESTE\nCURSO BIBLICO
URL:https://icec.pt/event/1609/
LOCATION:ICEC GAIA\, Rua de Jau\, 25\, Vila Nova de Gaia\, Porto\, 4430-076\, Portugal
ATTACH;FMTTYPE=image/jpeg:https://icec.pt/wp-content/uploads/2022/06/WhatsApp-Image-2023-04-04-at-12.22.02.jpeg
ORGANIZER;CN="Eventos Icec":MAILTO:eventos@icec.pt
END:VEVENT
END:VCALENDAR